BEGIN:VCALENDAR
VERSION:2.0
PRODID:-//Tukios.com/
BEGIN:VEVENT
UID:afe5ea6b-d97a-4d40-aea6-2f2b9d0a1ad5@www.wjlyonsfuneralhome.com
DTSTAMP:20260421T173435Z
DTSTART:20260424T140000Z
DTEND:20260424T143000Z
SUMMARY:Funeral Service
DESCRIPTION:
URL:https://www.wjlyonsfuneralhome.com/obituaries/michael-stewart
LOCATION:W.J. Lyons Jr Funeral Home, Inc 1700 Washington Avenue  
	Rensselaer NY 12144
GEO:42.6540802;-73.7036072
END:VEVENT
END:VCALENDAR