BEGIN:VCALENDAR
VERSION:2.0
PRODID:-//Tukios.com/
BEGIN:VEVENT
UID:dbfeb7ff-003d-4914-94a5-32a90dcc1288@www.wjlyonsfuneralhome.com
DTSTAMP:20260421T173326Z
DTSTART:20260423T200000Z
DTEND:20260423T230000Z
SUMMARY:Visitation
DESCRIPTION:
URL:https://www.wjlyonsfuneralhome.com/obituaries/michael-stewart
LOCATION:W.J. Lyons Jr Funeral Home, Inc 1700 Washington Avenue  
	Rensselaer NY 12144
GEO:42.6540802;-73.7036072
END:VEVENT
END:VCALENDAR