BEGIN:VCALENDAR
VERSION:2.0
PRODID:-//Tukios.com/
BEGIN:VEVENT
UID:ac346098-1d18-416d-ace5-a75a65edd2bb@www.wjlyonsfuneralhome.com
DTSTAMP:20260421T173954Z
DTSTART:20260424T150000Z
DTEND:20260424T153000Z
SUMMARY:Graveside Service
DESCRIPTION:
URL:https://www.wjlyonsfuneralhome.com/obituaries/michael-stewart
LOCATION:Our Lady of Angels Cemetery  1389 Central Avenue  Albany NY 
	12205
GEO:42.7055645;-73.818555
END:VEVENT
END:VCALENDAR