BEGIN:VCALENDAR
VERSION:2.0
PRODID:-//Tukios.com/
BEGIN:VEVENT
UID:8afa8384-f28f-452b-92ed-baf281eb7681@www.wjlyonsfuneralhome.com
DTSTAMP:20260424T232744Z
DTSTART:20260501T150000Z
DTEND:20260501T160000Z
SUMMARY:Mass
DESCRIPTION:
URL:https://www.wjlyonsfuneralhome.com/obituaries/joseph-distell-jr
LOCATION: 39 Old Route 66  Averill Park NY 12018
GEO:42.6365165;-73.5577104
END:VEVENT
END:VCALENDAR