BEGIN:VCALENDAR
VERSION:2.0
PRODID:-//Tukios.com/
BEGIN:VEVENT
UID:389a93eb-4231-414d-92c9-8acf17af38c6@www.wjlyonsfuneralhome.com
DTSTAMP:20260424T232444Z
DTSTART:20260501T140000Z
DTEND:20260501T150000Z
SUMMARY:Visitation
DESCRIPTION:
URL:https://www.wjlyonsfuneralhome.com/obituaries/joseph-distell-jr
LOCATION: 39 Old Route 66  Averill Park NY 12018
GEO:42.6365165;-73.5577104
END:VEVENT
END:VCALENDAR